BEGIN:VCALENDAR
VERSION:2.0
PRODID:-//Tukios.com/
BEGIN:VEVENT
UID:207635b7-e0a2-4387-8f7b-f75d32d76825@www.smithfamilymortuaries.com
DTSTAMP:20260422T221700Z
DTSTART:20260424T200000Z
DTEND:20260424T203000Z
SUMMARY:Burial
DESCRIPTION:
URL:https://www.smithfamilymortuaries.com/obituaries/shirley-gann-knuth
LOCATION:Maplewood Memorial Lawn Cemetery 2000 Prairie St  Emporia KS 
	66801
GEO:38.4211464;-96.2031191
END:VEVENT
END:VCALENDAR