BEGIN:VCALENDAR
VERSION:2.0
PRODID:-//Tukios.com/
BEGIN:VEVENT
UID:2d90bf35-c923-4d39-aff3-5d6300976685@www.smithfamilymortuaries.com
DTSTAMP:20260422T221318Z
DTSTART:20260423T220000Z
DTEND:20260424T000000Z
SUMMARY:Public Viewing
DESCRIPTION:
URL:https://www.smithfamilymortuaries.com/obituaries/shirley-gann-knuth
LOCATION: 501 SE Louis Blvd  Mulvane KS 67110
GEO:37.4797029;-97.2356667
END:VEVENT
END:VCALENDAR