BEGIN:VCALENDAR
VERSION:2.0
PRODID:-//Tukios.com/
BEGIN:VEVENT
UID:c463be96-f6e6-4b43-a968-e5b938f1705f@www.smithfamilymortuaries.com
DTSTAMP:20260422T221150Z
DTSTART:20260424T150000Z
DTEND:20260424T160000Z
SUMMARY:Funeral Service
DESCRIPTION:
URL:https://www.smithfamilymortuaries.com/obituaries/shirley-gann-knuth
LOCATION: 501 SE Louis Blvd  Mulvane KS 67110
GEO:37.4797029;-97.2356667
END:VEVENT
END:VCALENDAR