BEGIN:VCALENDAR
VERSION:2.0
PRODID:-//Tukios.com/
BEGIN:VEVENT
UID:2685e4bf-f303-45f5-bbe7-140b5ed24fcb@www.smithfamilymortuaries.com
DTSTAMP:20260420T180521Z
DTSTART:20260427T150000Z
DTEND:20260427T160000Z
SUMMARY:Memorial Service
DESCRIPTION:
URL:https://www.smithfamilymortuaries.com/obituaries/ronald-wentling
LOCATION:Smith Family Mortuaries 1415 N. Rock Road  Derby KS 67037
GEO:37.5611327;-97.2447924
END:VEVENT
END:VCALENDAR