BEGIN:VCALENDAR
VERSION:2.0
PRODID:-//Tukios.com/
BEGIN:VEVENT
UID:6f3d578b-6631-4ff2-801c-f029a9cbc1ea@www.smithfamilymortuaries.com
DTSTAMP:20260420T213853Z
DTSTART:20260424T150000Z
DTEND:20260424T160000Z
SUMMARY:Graveside Service
DESCRIPTION:
URL:https://www.smithfamilymortuaries.com/obituaries/john-luce
LOCATION:White Chapel Memorial Gardens 1806 N Oliver St  Wichita KS 67208
GEO:37.715674;-97.2793509
END:VEVENT
END:VCALENDAR