BEGIN:VCALENDAR
VERSION:2.0
PRODID:-//Tukios.com/
BEGIN:VEVENT
UID:e8274187-58d5-480e-a1cf-8a69b93bd7db@www.smithfamilymortuaries.com
DTSTAMP:20260420T213854Z
DTSTART:20260423T220000Z
DTEND:20260424T010000Z
SUMMARY:Visitation
DESCRIPTION:
URL:https://www.smithfamilymortuaries.com/obituaries/john-luce
LOCATION: 115 S Seneca St  Wichita KS 67213
GEO:37.6832831;-97.353386
END:VEVENT
END:VCALENDAR