BEGIN:VCALENDAR
VERSION:2.0
PRODID:-//Tukios.com/
BEGIN:VEVENT
UID:ce8c4022-f4bc-40ca-8265-47cab30a2d76@www.smithfamilymortuaries.com
DTSTAMP:20260422T004319Z
DTSTART:20260425T151500Z
DTEND:20260425T171500Z
SUMMARY:Public Viewing
DESCRIPTION:
URL:https://www.smithfamilymortuaries.com/obituaries/geneva-kissinger
LOCATION:Derby Church of Christ 225 N Derby Ave  Derby KS 67037
GEO:37.5453774;-97.2670482
END:VEVENT
END:VCALENDAR