BEGIN:VCALENDAR
VERSION:2.0
PRODID:-//Tukios.com/
BEGIN:VEVENT
UID:5912d1b3-3117-4d81-a5b0-1990eb338d3d@www.smithfamilymortuaries.com
DTSTAMP:20260422T004719Z
DTSTART:20260425T160000Z
DTEND:20260425T170000Z
SUMMARY:Funeral Service
DESCRIPTION:
URL:https://www.smithfamilymortuaries.com/obituaries/geneva-kissinger
LOCATION:Derby Church of Christ 225 N Derby Ave  Derby KS 67037
GEO:37.5722569;-97.2707924
END:VEVENT
END:VCALENDAR