BEGIN:VCALENDAR
VERSION:2.0
PRODID:-//Tukios.com/
BEGIN:VEVENT
UID:abdde430-1aa0-45c8-9274-5df01467e26b@www.smithfamilymortuaries.com
DTSTAMP:20260420T195800Z
DTSTART:20260425T150000Z
DTEND:20260425T160000Z
SUMMARY:Funeral Service
DESCRIPTION:
URL:https://www.smithfamilymortuaries.com/obituaries/edith-barber
LOCATION: 1415 North Rock Road  Derby KS 67037
GEO:37.5612775;-97.245693
END:VEVENT
END:VCALENDAR