BEGIN:VCALENDAR
VERSION:2.0
PRODID:-//Tukios.com/
BEGIN:VEVENT
UID:20dc1ae3-21a5-4b0b-b4f9-1060933da651@www.smithfamilymortuaries.com
DTSTAMP:20260420T195800Z
DTSTART:20260424T230000Z
DTEND:20260425T010000Z
SUMMARY:Visitation
DESCRIPTION:
URL:https://www.smithfamilymortuaries.com/obituaries/edith-barber
LOCATION: 1415 North Rock Road  Derby KS 67037
GEO:37.5612775;-97.245693
END:VEVENT
END:VCALENDAR