BEGIN:VCALENDAR
VERSION:2.0
PRODID:-//Tukios.com/
BEGIN:VEVENT
UID:f9ef32c0-d4b6-4b3e-8203-261bc6dc997f@www.smithfamilymortuaries.com
DTSTAMP:20260424T164149Z
DTSTART:20260428T190000Z
DTEND:20260428T200000Z
SUMMARY:Funeral Service
DESCRIPTION:
URL:https://www.smithfamilymortuaries.com/obituaries/donald-richey
LOCATION: 1415 North Rock Road  Derby KS 67037
GEO:37.5612775;-97.245693
END:VEVENT
END:VCALENDAR