BEGIN:VCALENDAR
VERSION:2.0
PRODID:-//Tukios.com/
BEGIN:VEVENT
UID:cc3dc2fc-6fac-4e12-aa69-1f8ff94a6984@www.smithfamilymortuaries.com
DTSTAMP:20260424T164113Z
DTSTART:20260427T220000Z
DTEND:20260428T000000Z
SUMMARY:Visitation
DESCRIPTION:
URL:https://www.smithfamilymortuaries.com/obituaries/donald-richey
LOCATION: 1415 North Rock Road  Derby KS 67037
GEO:37.5612775;-97.245693
END:VEVENT
END:VCALENDAR